Workbook

Sheet 入力シート
A1: 法 人 町 民 税 納 付 書 入 力 シ ー ト
A2: 項 目 | C2: 入 力 欄 | J2: 入 力 項 目 説 明
A3: 所 在 地 | N3: 所在地を入力してください。
A4: 法 人 名 | N4: 法人名を入力してください。
A5: 法 人 番 号 | J5: 8けたの法人番号を入力してください。
A6: 事業年度（自） | C6: 令和 | E6: 年 | G6: 月 | I6: 日から | J6: 事業年度を入力してください。
A7: 事業年度（至） | C7: 令和 | E7: 年 | G7: 月 | I7: 日まで
A8: 申 告 区 分 | J8: 申告区分をプルダウンメニューから選択してください。
A9: 納 付 額 | B9: 法人税割額 | C9: 01 | I9: 円 | J9: 納付額を入力してください。 （該当の無い箇所は空欄のままでかまいません）
B10: 均 等 割 額 | C10: 02 | I10: 円
B11: 延 滞 金 | C11: 03 | I11: 円
B12: 督促手数料 | C12: 04 | I12: 円
B13: 合 計 | C13: 05 | D13: =$D$9+$D$10+$D$11+$D$12 -> 0 | I13: 円 | J13: 合計は自動計算されます。
B15: １．必要事項を入力し、印刷シートを選択の上、出力してください。
B16: ２．出力した納付書は、外枠のみを切り取り、納付する金融機関に提出してください。

Sheet 印刷シート
B1: 切 り 取 り 線
A2: 切 り 取 り 線 | CZ2: 切 り 取 り 線
C3: 市町村コード | AK3: 市町村コード | BS3: 市町村コード
C4: 394122 | AK4: =C4 -> 394122 | BS4: =AK4 -> 394122
C6: 高 知 県 | AK6: 高 知 県 | BS6: 高 知 県
M7: 法人町民税領収証書 | AB7: （公） | AU7: 法人町民税納付書 | BJ7: （公） | CA7: 法人町民税領収済通知書 | CT7: （公）
C8: 四万十町 | AK8: =C8 -> 四万十町 | BS8: =C8 -> 四万十町
C10: 口 座 番 号 | P10: 加 入 者 | AK10: 口 座 番 号 | AX10: 加 入 者 | BS10: 口 座 番 号 | CF10: 加 入 者
P11: 四 万 十 町 会 計 管 理 者 | AX11: =P11 -> 四 万 十 町 会 計 管 理 者 | CF11: =P11 -> 四 万 十 町 会 計 管 理 者
C12: 所在地及び法人名 | AK12: 所在地及び法人名 | BS12: 所在地及び法人名
E13: （各特定信託の各計算期間の法人税額を課税標準とする 市町村民税の法人税割については特定信託の名称を併記） | AM13: （各特定信託の各計算期間の法人税額を課税標準とする 市町村民税の法人税割については特定信託の名称を併記） | BU13: （各特定信託の各計算期間の法人税額を課税標準とする 市町村民税の法人税割については特定信託の名称を併記）
E15: =IF(入力シート!$C$3="","",入力シート!$C$3) | AM15: =IF(入力シート!$C$3="","",入力シート!$C$3) | BU15: =IF(入力シート!$C$3="","",入力シート!$C$3)
E17: =IF(入力シート!$C$4="","",入力シート!$C$4) | AM17: =IF(入力シート!$C$4="","",入力シート!$C$4) | BU17: =IF(入力シート!$C$4="","",入力シート!$C$4)
C20: 年 度 | I20: 処 理 事 項 | AA20: 法 人 番 号 | AK20: 年 度 | AQ20: 処 理 事 項 | BI20: 法 人 番 号 | BS20: 年 度 | BY20: 処 理 事 項 | CQ20: 法 人 番 号
AA21: =IF(入力シート!$C$5="","",入力シート!$C$5) | BI21: =IF(入力シート!$C$5="","",入力シート!$C$5) | CQ21: =IF(入力シート!$C$5="","",入力シート!$C$5)
C22: 事 業 年 度 又 は 連 結 事 業 年 度 | U22: 申 告 区 分 | AK22: 事 業 年 度 又 は 連 結 事 業 年 度 | BC22: 申 告 区 分 | BS22: 事 業 年 度 又 は 連 結 事 業 年 度 | CK22: 申 告 区 分
C23: =IF(入力シート!$D$6="","",入力シート!$D$6) | E23: ・ | F23: =IF(入力シート!$F$6="","",入力シート!$F$6) | H23: ・ | I23: =IF(入力シート!$H$6="","",入力シート!$H$6) | K23: から | L23: =IF(入力シート!$D$7="","",入力シート!$D$7) | N23: ・ | O23: =IF(入力シート!$F$7="","",入力シート!$F$7) | Q23: ・ | R23: =IF(入力シート!$H$7="","",入力シート!$H$7) | T23: まで | U23: =IF(入力シート!$C$8="","",入力シート!$C$8) | AK23: =IF(入力シート!$D$6="","",入力シート!$D$6) | AM23: ・ | AN23: =IF(入力シート!$F$6="","",入力シート!$F$6) | AP23: ・ | AQ23: =IF(入力シート!$H$6="","",入力シート!$H$6) | AS23: から | AT23: =IF(入力シート!$D$7="","",入力シート!$D$7) | AV23: ・ | AW23: =IF(入力シート!$F$7="","",入力シート!$F$7) | AY23: ・ | AZ23: =IF(入力シート!$H$7="","",入力シート!$H$7) | BB23: まで | BC23: =IF(入力シート!$C$8="","",入力シート!$C$8) | BS23: =IF(入力シート!$D$6="","",入力シート!$D$6) | BU23: ・ | BV23: =IF(入力シート!$F$6="","",入力シート!$F$6) | BX23: ・ | BY23: =IF(入力シート!$H$6="","",入力シート!$H$6) | CA23: から | CB23: =IF(入力シート!$D$7="","",入力シート!$D$7) | CD23: ・ | CE23: =IF(入力シート!$F$7="","",入力シート!$F$7) | CG23: ・ | CH23: =IF(入力シート!$H$7="","",入力シート!$H$7) | CJ23: まで | CK23: =IF(入力シート!$C$8="","",入力シート!$C$8)
M24: 百 | O24: 十 | Q24: 億 | S24: 千 | U24: 百 | W24: 十 | Y24: 万 | AA24: 千 | AC24: 百 | AE24: 十 | AG24: 円 | AU24: 百 | AW24: 十 | AY24: 億 | BA24: 千 | BC24: 百 | BE24: 十 | BG24: 万 | BI24: 千 | BK24: 百 | BM24: 十 | BO24: 円 | CC24: 百 | CE24: 十 | CG24: 億 | CI24: 千 | CK24: 百 | CM24: 十 | CO24: 万 | CQ24: 千 | CS24: 百 | CU24: 十 | CW24: 円
C25: 法人税割額 | K25: 01 | M25: =MID(TEXT(入力シート!$D$9,"??????????0"),1,1) | O25: =MID(TEXT(入力シート!$D$9,"??????????0"),2,1) | Q25: =MID(TEXT(入力シート!$D$9,"??????????0"),3,1) | S25: =MID(TEXT(入力シート!$D$9,"??????????0"),4,1) | U25: =MID(TEXT(入力シート!$D$9,"??????????0"),5,1) | W25: =MID(TEXT(入力シート!$D$9,"??????????0"),6,1) | Y25: =MID(TEXT(入力シート!$D$9,"??????????0"),7,1) | AA25: =MID(TEXT(入力シート!$D$9,"??????????0"),8,1) | AC25: =MID(TEXT(入力シート!$D$9,"??????????0"),9,1) | AE25: =MID(TEXT(入力シート!$D$9,"??????????0"),10,1) | AG25: =MID(TEXT(入力シート!$D$9,"???????????"),11,1) | AK25: 法人税割額 | AS25: 01 | AU25: =MID(TEXT(入力シート!$D$9,"??????????0"),1,1) | AW25: =MID(TEXT(入力シート!$D$9,"??????????0"),2,1) | AY25: =MID(TEXT(入力シート!$D$9,"??????????0"),3,1) | BA25: =MID(TEXT(入力シート!$D$9,"??????????0"),4,1) | BC25: =MID(TEXT(入力シート!$D$9,"??????????0"),5,1) | BE25: =MID(TEXT(入力シート!$D$9,"??????????0"),6,1) | BG25: =MID(TEXT(入力シート!$D$9,"??????????0"),7,1) | BI25: =MID(TEXT(入力シート!$D$9,"??????????0"),8,1) | BK25: =MID(TEXT(入力シート!$D$9,"??????????0"),9,1) | BM25: =MID(TEXT(入力シート!$D$9,"??????????0"),10,1) | BO25: =MID(TEXT(入力シート!$D$9,"???????????"),11,1) | BS25: 法人税割額 | CA25: 01 | CC25: =MID(TEXT(入力シート!$D$9,"??????????0"),1,1) | CE25: =MID(TEXT(入力シート!$D$9,"??????????0"),2,1) | CG25: =MID(TEXT(入力シート!$D$9,"??????????0"),3,1) | CI25: =MID(TEXT(入力シート!$D$9,"??????????0"),4,1) | CK25: =MID(TEXT(入力シート!$D$9,"??????????0"),5,1) | CM25: =MID(TEXT(入力シート!$D$9,"??????????0"),6,1) | CO25: =MID(TEXT(入力シート!$D$9,"??????????0"),7,1) | CQ25: =MID(TEXT(入力シート!$D$9,"??????????0"),8,1) | CS25: =MID(TEXT(入力シート!$D$9,"??????????0"),9,1) | CU25: =MID(TEXT(入力シート!$D$9,"??????????0"),10,1) | CW25: =MID(TEXT(入力シート!$D$9,"???????????"),11,1)
C26: 均 等 割 額 | K26: 02 | M26: =MID(TEXT(入力シート!$D$10,"??????????0"),1,1) | O26: =MID(TEXT(入力シート!$D$10,"??????????0"),2,1) | Q26: =MID(TEXT(入力シート!$D$10,"??????????0"),3,1) | S26: =MID(TEXT(入力シート!$D$10,"??????????0"),4,1) | U26: =MID(TEXT(入力シート!$D$10,"??????????0"),5,1) | W26: =MID(TEXT(入力シート!$D$10,"??????????0"),6,1) | Y26: =MID(TEXT(入力シート!$D$10,"??????????0"),7,1) | AA26: =MID(TEXT(入力シート!$D$10,"??????????0"),8,1) | AC26: =MID(TEXT(入力シート!$D$10,"??????????0"),9,1) | AE26: =MID(TEXT(入力シート!$D$10,"??????????0"),10,1) | AG26: =MID(TEXT(入力シート!$D$10,"???????????"),11,1) | AK26: 均 等 割 額 | AS26: 02 | AU26: =MID(TEXT(入力シート!$D$10,"??????????0"),1,1) | AW26: =MID(TEXT(入力シート!$D$10,"??????????0"),2,1) | AY26: =MID(TEXT(入力シート!$D$10,"??????????0"),3,1) | BA26: =MID(TEXT(入力シート!$D$10,"??????????0"),4,1) | BC26: =MID(TEXT(入力シート!$D$10,"??????????0"),5,1) | BE26: =MID(TEXT(入力シート!$D$10,"??????????0"),6,1) | BG26: =MID(TEXT(入力シート!$D$10,"??????????0"),7,1) | BI26: =MID(TEXT(入力シート!$D$10,"??????????0"),8,1) | BK26: =MID(TEXT(入力シート!$D$10,"??????????0"),9,1) | BM26: =MID(TEXT(入力シート!$D$10,"??????????0"),10,1) | BO26: =MID(TEXT(入力シート!$D$10,"???????????"),11,1) | BS26: 均 等 割 額 | CA26: 02 | CC26: =MID(TEXT(入力シート!$D$10,"??????????0"),1,1) | CE26: =MID(TEXT(入力シート!$D$10,"??????????0"),2,1) | CG26: =MID(TEXT(入力シート!$D$10,"??????????0"),3,1) | CI26: =MID(TEXT(入力シート!$D$10,"??????????0"),4,1) | CK26: =MID(TEXT(入力シート!$D$10,"??????????0"),5,1) | CM26: =MID(TEXT(入力シート!$D$10,"??????????0"),6,1) | CO26: =MID(TEXT(入力シート!$D$10,"??????????0"),7,1) | CQ26: =MID(TEXT(入力シート!$D$10,"??????????0"),8,1) | CS26: =MID(TEXT(入力シート!$D$10,"??????????0"),9,1) | CU26: =MID(TEXT(入力シート!$D$10,"??????????0"),10,1) | CW26: =MID(TEXT(入力シート!$D$10,"???????????"),11,1)
C27: 延 滞 金 | K27: 03 | M27: =MID(TEXT(入力シート!$D$11,"??????????0"),1,1) | O27: =MID(TEXT(入力シート!$D$11,"??????????0"),2,1) | Q27: =MID(TEXT(入力シート!$D$11,"??????????0"),3,1) | S27: =MID(TEXT(入力シート!$D$11,"??????????0"),4,1) | U27: =MID(TEXT(入力シート!$D$11,"??????????0"),5,1) | W27: =MID(TEXT(入力シート!$D$11,"??????????0"),6,1) | Y27: =MID(TEXT(入力シート!$D$11,"??????????0"),7,1) | AA27: =MID(TEXT(入力シート!$D$11,"??????????0"),8,1) | AC27: =MID(TEXT(入力シート!$D$11,"??????????0"),9,1) | AE27: =MID(TEXT(入力シート!$D$11,"??????????0"),10,1) | AG27: =MID(TEXT(入力シート!$D$11,"???????????"),11,1) | AK27: 延 滞 金 | AS27: 03 | AU27: =MID(TEXT(入力シート!$D$11,"??????????0"),1,1) | AW27: =MID(TEXT(入力シート!$D$11,"??????????0"),2,1) | AY27: =MID(TEXT(入力シート!$D$11,"??????????0"),3,1) | BA27: =MID(TEXT(入力シート!$D$11,"??????????0"),4,1) | BC27: =MID(TEXT(入力シート!$D$11,"??????????0"),5,1) | BE27: =MID(TEXT(入力シート!$D$11,"??????????0"),6,1) | BG27: =MID(TEXT(入力シート!$D$11,"??????????0"),7,1) | BI27: =MID(TEXT(入力シート!$D$11,"??????????0"),8,1) | BK27: =MID(TEXT(入力シート!$D$11,"??????????0"),9,1) | BM27: =MID(TEXT(入力シート!$D$11,"??????????0"),10,1) | BO27: =MID(TEXT(入力シート!$D$11,"???????????"),11,1) | BS27: 延 滞 金 | CA27: 03 | CC27: =MID(TEXT(入力シート!$D$11,"??????????0"),1,1) | CE27: =MID(TEXT(入力シート!$D$11,"??????????0"),2,1) | CG27: =MID(TEXT(入力シート!$D$11,"??????????0"),3,1) | CI27: =MID(TEXT(入力シート!$D$11,"??????????0"),4,1) | CK27: =MID(TEXT(入力シート!$D$11,"??????????0"),5,1) | CM27: =MID(TEXT(入力シート!$D$11,"??????????0"),6,1) | CO27: =MID(TEXT(入力シート!$D$11,"??????????0"),7,1) | CQ27: =MID(TEXT(入力シート!$D$11,"??????????0"),8,1) | CS27: =MID(TEXT(入力シート!$D$11,"??????????0"),9,1) | CU27: =MID(TEXT(入力シート!$D$11,"??????????0"),10,1) | CW27: =MID(TEXT(入力シート!$D$11,"???????????"),11,1)
C28: 督促手数料 | K28: 04 | M28: =MID(TEXT(入力シート!$D$12,"??????????0"),1,1) | O28: =MID(TEXT(入力シート!$D$12,"??????????0"),2,1) | Q28: =MID(TEXT(入力シート!$D$12,"??????????0"),3,1) | S28: =MID(TEXT(入力シート!$D$12,"??????????0"),4,1) | U28: =MID(TEXT(入力シート!$D$12,"??????????0"),5,1) | W28: =MID(TEXT(入力シート!$D$12,"??????????0"),6,1) | Y28: =MID(TEXT(入力シート!$D$12,"??????????0"),7,1) | AA28: =MID(TEXT(入力シート!$D$12,"??????????0"),8,1) | AC28: =MID(TEXT(入力シート!$D$12,"??????????0"),9,1) | AE28: =MID(TEXT(入力シート!$D$12,"??????????0"),10,1) | AG28: =MID(TEXT(入力シート!$D$12,"???????????"),11,1) | AK28: 督促手数料 | AS28: 04 | AU28: =MID(TEXT(入力シート!$D$12,"??????????0"),1,1) | AW28: =MID(TEXT(入力シート!$D$12,"??????????0"),2,1) | AY28: =MID(TEXT(入力シート!$D$12,"??????????0"),3,1) | BA28: =MID(TEXT(入力シート!$D$12,"??????????0"),4,1) | BC28: =MID(TEXT(入力シート!$D$12,"??????????0"),5,1) | BE28: =MID(TEXT(入力シート!$D$12,"??????????0"),6,1) | BG28: =MID(TEXT(入力シート!$D$12,"??????????0"),7,1) | BI28: =MID(TEXT(入力シート!$D$12,"??????????0"),8,1) | BK28: =MID(TEXT(入力シート!$D$12,"??????????0"),9,1) | BM28: =MID(TEXT(入力シート!$D$12,"??????????0"),10,1) | BO28: =MID(TEXT(入力シート!$D$12,"???????????"),11,1) | BS28: 督促手数料 | CA28: 04 | CC28: =MID(TEXT(入力シート!$D$12,"??????????0"),1,1) | CE28: =MID(TEXT(入力シート!$D$12,"??????????0"),2,1) | CG28: =MID(TEXT(入力シート!$D$12,"??????????0"),3,1) | CI28: =MID(TEXT(入力シート!$D$12,"??????????0"),4,1) | CK28: =MID(TEXT(入力シート!$D$12,"??????????0"),5,1) | CM28: =MID(TEXT(入力シート!$D$12,"??????????0"),6,1) | CO28: =MID(TEXT(入力シート!$D$12,"??????????0"),7,1) | CQ28: =MID(TEXT(入力シート!$D$12,"??????????0"),8,1) | CS28: =MID(TEXT(入力シート!$D$12,"??????????0"),9,1) | CU28: =MID(TEXT(入力シート!$D$12,"??????????0"),10,1) | CW28: =MID(TEXT(入力シート!$D$12,"???????????"),11,1)
C29: 合 計 額 | K29: 05 | M29: =MID(TEXT(入力シート!$D$13,"??????????0"),1,1) | O29: =MID(TEXT(入力シート!$D$13,"??????????0"),2,1) | Q29: =MID(TEXT(入力シート!$D$13,"??????????0"),3,1) | S29: =MID(TEXT(入力シート!$D$13,"??????????0"),4,1) | U29: =MID(TEXT(入力シート!$D$13,"??????????0"),5,1) | W29: =MID(TEXT(入力シート!$D$13,"??????????0"),6,1) | Y29: =MID(TEXT(入力シート!$D$13,"??????????0"),7,1) | AA29: =MID(TEXT(入力シート!$D$13,"??????????0"),8,1) | AC29: =MID(TEXT(入力シート!$D$13,"??????????0"),9,1) | AE29: =MID(TEXT(入力シート!$D$13,"??????????0"),10,1) | AG29: =MID(TEXT(入力シート!$D$13,"???????????"),11,1) | AK29: 合 計 額 | AS29: 05 | AU29: =MID(TEXT(入力シート!$D$13,"??????????0"),1,1) | AW29: =MID(TEXT(入力シート!$D$13,"??????????0"),2,1) | AY29: =MID(TEXT(入力シート!$D$13,"??????????0"),3,1) | BA29: =MID(TEXT(入力シート!$D$13,"??????????0"),4,1) | BC29: =MID(TEXT(入力シート!$D$13,"??????????0"),5,1) | BE29: =MID(TEXT(入力シート!$D$13,"??????????0"),6,1) | BG29: =MID(TEXT(入力シート!$D$13,"??????????0"),7,1) | BI29: =MID(TEXT(入力シート!$D$13,"??????????0"),8,1) | BK29: =MID(TEXT(入力シート!$D$13,"??????????0"),9,1) | BM29: =MID(TEXT(入力シート!$D$13,"??????????0"),10,1) | BO29: =MID(TEXT(入力シート!$D$13,"???????????"),11,1) | BS29: 合 計 額 | CA29: 05 | CC29: =MID(TEXT(入力シート!$D$13,"??????????0"),1,1) | CE29: =MID(TEXT(入力シート!$D$13,"??????????0"),2,1) | CG29: =MID(TEXT(入力シート!$D$13,"??????????0"),3,1) | CI29: =MID(TEXT(入力シート!$D$13,"??????????0"),4,1) | CK29: =MID(TEXT(入力シート!$D$13,"??????????0"),5,1) | CM29: =MID(TEXT(入力シート!$D$13,"??????????0"),6,1) | CO29: =MID(TEXT(入力シート!$D$13,"??????????0"),7,1) | CQ29: =MID(TEXT(入力シート!$D$13,"??????????0"),8,1) | CS29: =MID(TEXT(入力シート!$D$13,"??????????0"),9,1) | CU29: =MID(TEXT(入力シート!$D$13,"??????????0"),10,1) | CW29: =MID(TEXT(入力シート!$D$13,"???????????"),11,1)
C30: 納 期 限 | H30: 令和 | M30: 年 | P30: 月 | S30: 日 | T30: 領収日付印 | AK30: 納 期 限 | AP30: 令和 | AU30: 年 | AX30: 月 | BA30: 日 | BB30: 領収日付印 | BS30: 納 期 限 | BX30: 令和 | CC30: 年 | CF30: 月 | CI30: 日 | CJ30: 領収日付印
AK31: 日 計 | AP31: 口 | BS31: 指定金融 機関名 （取りまとめ店）
C32: 上記のとおり領収しました。 （納税者保管） | AP32: 円
AK33: 上記のとおり納付します。 （金融機関保管） | BS33: 取りまとめ局
C35: ◎この納付書は、 ３枚１組になっています。
BS37: 上記のとおり通知します。（四万十町保管）
B38: 切 り 取 り 線
AA40: 切り取り線に沿って余白部分を切り取り、納付場所でご納付ください。
